BEGIN:VCALENDAR
VERSION:2.0
PRODID:-//Azusa Street Mission - ECPv6.15.20//NONSGML v1.0//EN
CALSCALE:GREGORIAN
METHOD:PUBLISH
X-ORIGINAL-URL:https://azusastreetmission.org
X-WR-CALDESC:Events for Azusa Street Mission
REFRESH-INTERVAL;VALUE=DURATION:PT1H
X-Robots-Tag:noindex
X-PUBLISHED-TTL:PT1H
BEGIN:VTIMEZONE
TZID:America/Los_Angeles
BEGIN:DAYLIGHT
TZOFFSETFROM:-0800
TZOFFSETTO:-0700
TZNAME:PDT
DTSTART:20250309T100000
END:DAYLIGHT
BEGIN:STANDARD
TZOFFSETFROM:-0700
TZOFFSETTO:-0800
TZNAME:PST
DTSTART:20251102T090000
END:STANDARD
BEGIN:DAYLIGHT
TZOFFSETFROM:-0800
TZOFFSETTO:-0700
TZNAME:PDT
DTSTART:20260308T100000
END:DAYLIGHT
BEGIN:STANDARD
TZOFFSETFROM:-0700
TZOFFSETTO:-0800
TZNAME:PST
DTSTART:20261101T090000
END:STANDARD
BEGIN:DAYLIGHT
TZOFFSETFROM:-0800
TZOFFSETTO:-0700
TZNAME:PDT
DTSTART:20270314T100000
END:DAYLIGHT
BEGIN:STANDARD
TZOFFSETFROM:-0700
TZOFFSETTO:-0800
TZNAME:PST
DTSTART:20271107T090000
END:STANDARD
END:VTIMEZONE
BEGIN:VEVENT
DTSTART;TZID=America/Los_Angeles:20260409T183000
DTEND;TZID=America/Los_Angeles:20260409T213000
DTSTAMP:20260422T110053
CREATED:20260404T175105Z
LAST-MODIFIED:20260404T193351Z
UID:478-1775759400-1775770200@azusastreetmission.org
SUMMARY:20th Annual AzusaFest Celebration
DESCRIPTION:Celebrating the 120th anniversary of Revival from Azusa Street Mission! \n\n\n\nWelcome to the 20th Annual AzusaFest Celebration!!! \nOur theme is What every Joint Supplies” Ephesians 4:16 KJV –From whom the whole body fitly joined together and compacted by that which every joint supplieth\, according to the effectual working in the measure of every part\, maketh increase of the body unto the edifying of itself in love. \nThis is the 120th anniversary of one of the most impactful revivals of our times… The 1906-1915 Azusa Street Revival\, led by William J. Seymour\, marked a pivotal shift in modern Christianity\, emphasizing racial unity\, spiritual empowerment\, and direct\, unprogrammed worship guided by the Holy Spirit. Eyewitness Frank Bartleman notably stated\, “The ‘color line’ was washed away in the blood”\, characterizing the movement’s radical equality. \nApril 9th & 10th \n6:30pm – 9:30pm on both night services and on Friday\, April 10th\, 10am – 1pm a good old fashioned prayer meeting! Intercessors come and join us! \nAll are welcome!!! \nSpeakers: Thursday night – Pastor George Selman\, Oilfield Ministries \nPastor Caleb Cooper\, New Mexico \nFriday Night – First Lady Osie Hill\, ‘Special Honoree” \nBishop Ron Hill\, Love and Unity \nPastor Sam Kumar\, Missionary from India \nPowerful worship – Tara Parham\, Anointed Youth and Psalms Dance Network \nMany more wonderful surprises…
URL:https://azusastreetmission.org/event/20th-annual-azusafest-celebration/
LOCATION:Torrance New Life Church\, 2300 Sepulveda\, Torrance\, CA\, 90501\, United States
CATEGORIES:AzusaFest26
END:VEVENT
END:VCALENDAR